BEGIN:VCALENDAR
VERSION:2.0
PRODID:-//The M.O.M.S. Tour - ECPv6.0.12//NONSGML v1.0//EN
CALSCALE:GREGORIAN
METHOD:PUBLISH
X-ORIGINAL-URL:https://themomstour.info
X-WR-CALDESC:Events for The M.O.M.S. Tour
REFRESH-INTERVAL;VALUE=DURATION:PT1H
X-Robots-Tag:noindex
X-PUBLISHED-TTL:PT1H
BEGIN:VTIMEZONE
TZID:America/Chicago
BEGIN:DAYLIGHT
TZOFFSETFROM:-0600
TZOFFSETTO:-0500
TZNAME:CDT
DTSTART:20230312T080000
END:DAYLIGHT
BEGIN:STANDARD
TZOFFSETFROM:-0500
TZOFFSETTO:-0600
TZNAME:CST
DTSTART:20231105T070000
END:STANDARD
END:VTIMEZONE
BEGIN:VEVENT
DTSTART;TZID=America/Chicago:20231001T150000
DTEND;TZID=America/Chicago:20231001T170000
DTSTAMP:20260419T185143
CREATED:20230323T152612Z
LAST-MODIFIED:20230922T141720Z
UID:10000021-1696172400-1696179600@themomstour.info
SUMMARY:Houston\, TX
DESCRIPTION:
URL:https://themomstour.info/event/houston-tx/
LOCATION:The Community Collective for Houston\, 12401 S. Post Oak Drive\, Houston\, 77045
END:VEVENT
END:VCALENDAR