BEGIN:VCALENDAR
VERSION:2.0
PRODID:-//The M.O.M.S. Tour - ECPv6.0.12//NONSGML v1.0//EN
CALSCALE:GREGORIAN
METHOD:PUBLISH
X-WR-CALNAME:The M.O.M.S. Tour
X-ORIGINAL-URL:https://themomstour.info
X-WR-CALDESC:Events for The M.O.M.S. Tour
REFRESH-INTERVAL;VALUE=DURATION:PT1H
X-Robots-Tag:noindex
X-PUBLISHED-TTL:PT1H
BEGIN:VTIMEZONE
TZID:America/New_York
BEGIN:DAYLIGHT
TZOFFSETFROM:-0500
TZOFFSETTO:-0400
TZNAME:EDT
DTSTART:20230312T070000
END:DAYLIGHT
BEGIN:STANDARD
TZOFFSETFROM:-0400
TZOFFSETTO:-0500
TZNAME:EST
DTSTART:20231105T060000
END:STANDARD
END:VTIMEZONE
BEGIN:VEVENT
DTSTART;VALUE=DATE:20230812
DTEND;VALUE=DATE:20230813
DTSTAMP:20260419T203305
CREATED:20230323T152452Z
LAST-MODIFIED:20230323T152452Z
UID:10000018-1691798400-1691884799@themomstour.info
SUMMARY:Detroit\, MI
DESCRIPTION:
URL:https://themomstour.info/event/detroit-mi/
LOCATION:Greater Emmanuel Institutional COGIC Church\, 19190 Schaefer Highway\, Detroi\, MI\, 48235\, United States
END:VEVENT
END:VCALENDAR