BEGIN:VCALENDAR
VERSION:2.0
PRODID:-//The M.O.M.S. Tour - ECPv6.0.12//NONSGML v1.0//EN
CALSCALE:GREGORIAN
METHOD:PUBLISH
X-ORIGINAL-URL:https://themomstour.info
X-WR-CALDESC:Events for The M.O.M.S. Tour
REFRESH-INTERVAL;VALUE=DURATION:PT1H
X-Robots-Tag:noindex
X-PUBLISHED-TTL:PT1H
BEGIN:VTIMEZONE
TZID:America/New_York
BEGIN:DAYLIGHT
TZOFFSETFROM:-0500
TZOFFSETTO:-0400
TZNAME:EDT
DTSTART:20230312T070000
END:DAYLIGHT
BEGIN:STANDARD
TZOFFSETFROM:-0400
TZOFFSETTO:-0500
TZNAME:EST
DTSTART:20231105T060000
END:STANDARD
END:VTIMEZONE
BEGIN:VEVENT
DTSTART;VALUE=DATE:20231112
DTEND;VALUE=DATE:20231113
DTSTAMP:20260419T185151
CREATED:20230323T152839Z
LAST-MODIFIED:20231010T155811Z
UID:10000026-1699747200-1699833599@themomstour.info
SUMMARY:Oklahoma City\, OK
DESCRIPTION:
URL:https://themomstour.info/event/oklahoma-city-ok/
LOCATION:E. L. Gaylord Dowown YMCA\, 1 NW 4th Street\, Oklahoma City\, OK
END:VEVENT
END:VCALENDAR