BEGIN:VCALENDAR
VERSION:2.0
PRODID:-//The M.O.M.S. Tour - ECPv6.0.12//NONSGML v1.0//EN
CALSCALE:GREGORIAN
METHOD:PUBLISH
X-ORIGINAL-URL:https://themomstour.info
X-WR-CALDESC:Events for The M.O.M.S. Tour
REFRESH-INTERVAL;VALUE=DURATION:PT1H
X-Robots-Tag:noindex
X-PUBLISHED-TTL:PT1H
BEGIN:VTIMEZONE
TZID:America/New_York
BEGIN:DAYLIGHT
TZOFFSETFROM:-0500
TZOFFSETTO:-0400
TZNAME:EDT
DTSTART:20230312T070000
END:DAYLIGHT
BEGIN:STANDARD
TZOFFSETFROM:-0400
TZOFFSETTO:-0500
TZNAME:EST
DTSTART:20231105T060000
END:STANDARD
END:VTIMEZONE
BEGIN:VEVENT
DTSTART;VALUE=DATE:20230506
DTEND;VALUE=DATE:20230507
DTSTAMP:20260419T204200
CREATED:20230323T151300Z
LAST-MODIFIED:20230421T140411Z
UID:10000006-1683331200-1683417599@themomstour.info
SUMMARY:Anchorage\, AK
DESCRIPTION:
URL:https://themomstour.info/event/anchorage-ak/
LOCATION:Church of Jesus Christ and Latter-day Saints\, 2240 Baxter Road\, Anchorage\, AK
END:VEVENT
END:VCALENDAR