BEGIN:VCALENDAR
VERSION:2.0
PRODID:-//The M.O.M.S. Tour - ECPv6.0.12//NONSGML v1.0//EN
CALSCALE:GREGORIAN
METHOD:PUBLISH
X-ORIGINAL-URL:https://themomstour.info
X-WR-CALDESC:Events for The M.O.M.S. Tour
REFRESH-INTERVAL;VALUE=DURATION:PT1H
X-Robots-Tag:noindex
X-PUBLISHED-TTL:PT1H
BEGIN:VTIMEZONE
TZID:America/New_York
BEGIN:DAYLIGHT
TZOFFSETFROM:-0500
TZOFFSETTO:-0400
TZNAME:EDT
DTSTART:20230312T070000
END:DAYLIGHT
BEGIN:STANDARD
TZOFFSETFROM:-0400
TZOFFSETTO:-0500
TZNAME:EST
DTSTART:20231105T060000
END:STANDARD
END:VTIMEZONE
BEGIN:VEVENT
DTSTART;VALUE=DATE:20230520
DTEND;VALUE=DATE:20230521
DTSTAMP:20260419T203717
CREATED:20230323T151538Z
LAST-MODIFIED:20230323T151538Z
UID:10000008-1684540800-1684627199@themomstour.info
SUMMARY:Atlanta\, GA
DESCRIPTION:
URL:https://themomstour.info/event/atlanta-ga/
LOCATION:Cathedral of Faith Church\, 1137 Avon Ave SW\, Atlanta\, GA\, 30310\, United States
END:VEVENT
END:VCALENDAR